BEGIN:VCALENDAR
VERSION:2.0
PRODID:-//Tukios.com/
BEGIN:VEVENT
UID:fe67821b-f435-4780-a150-710293e797c7@www.middendorf-funeralhome.com
DTSTAMP:20260421T224704Z
DTSTART:20260428
SUMMARY:Celebration of Life
DESCRIPTION:
URL:https://www.middendorf-funeralhome.com/obituaries/thomas-reynolds
LOCATION:Sterling Event Center at St. Barbara's Church 4042 Turkeyfoot 
	Road  Erlanger KY 41018
GEO:38.9742216;-84.5962278
END:VEVENT
END:VCALENDAR