BEGIN:VCALENDAR
VERSION:2.0
PRODID:-//Tukios.com/
BEGIN:VEVENT
UID:88c1afcf-3809-466d-96a9-9267ce1a8bce@www.middendorf-funeralhome.com
DTSTAMP:20260421T225500Z
DTSTART:20260428T210000Z
DTEND:20260428T220000Z
SUMMARY:Mass
DESCRIPTION:
URL:https://www.middendorf-funeralhome.com/obituaries/thomas-reynolds
LOCATION:St. Barbara's Church 4042 Turkeyfoot Road  Erlanger KY 41018
GEO:38.9719924;-84.595921
END:VEVENT
END:VCALENDAR