BEGIN:VCALENDAR
VERSION:2.0
PRODID:-//Tukios.com/
BEGIN:VEVENT
UID:a81308ec-1efb-482b-8cd0-fc80c9fbaa82@www.middendorf-funeralhome.com
DTSTAMP:20260421T225332Z
DTSTART:20260428T200000Z
DTEND:20260428T210000Z
SUMMARY:Visitation
DESCRIPTION:
URL:https://www.middendorf-funeralhome.com/obituaries/thomas-reynolds
LOCATION:St. Barbara's Church 4042 Turkeyfoot Road  Erlanger KY 41018
GEO:38.9719924;-84.595921
END:VEVENT
END:VCALENDAR