BEGIN:VCALENDAR
VERSION:2.0
PRODID:-//Tukios.com/
BEGIN:VEVENT
UID:2a5d1b71-2f07-430e-ab76-1d7854ca9421@www.middendorf-funeralhome.com
DTSTAMP:20260421T182724Z
DTSTART:20260501T160000Z
DTEND:20260501T170000Z
SUMMARY:Mass
DESCRIPTION:
URL:https://www.middendorf-funeralhome.com/obituaries/jerome-lynch
LOCATION:Mother of God Church 119 W 6th St  Covington KY 41011
GEO:39.0839493;-84.5126119
END:VEVENT
END:VCALENDAR