BEGIN:VCALENDAR
VERSION:2.0
PRODID:-//Tukios.com/
BEGIN:VEVENT
UID:c39c81dc-64ff-4a01-abcf-08657dc1b123@www.middendorf-funeralhome.com
DTSTAMP:20260421T182439Z
DTSTART:20260501T150000Z
DTEND:20260501T160000Z
SUMMARY:Visitation
DESCRIPTION:
URL:https://www.middendorf-funeralhome.com/obituaries/jerome-lynch
LOCATION:Mother of God Church 119 W 6th St  Covington KY 41011
GEO:39.0839493;-84.5126119
END:VEVENT
END:VCALENDAR