BEGIN:VCALENDAR
VERSION:2.0
PRODID:-//Tukios.com/
BEGIN:VEVENT
UID:7d16226a-ae39-4212-b5d3-953d9782781f@www.middendorf-funeralhome.com
DTSTAMP:20260421T183210Z
DTSTART:20260424T140000Z
DTEND:20260424T150000Z
SUMMARY:Mass
DESCRIPTION:
URL:https://www.middendorf-funeralhome.com/obituaries/carrie-moeves
LOCATION:St. Barbara Church 4042 Turkeyfoot Rd  Erlanger KY 41018
GEO:38.9727656;-84.5969317
END:VEVENT
END:VCALENDAR