BEGIN:VCALENDAR
VERSION:2.0
PRODID:-//Tukios.com/
BEGIN:VEVENT
UID:db32b69c-6dfc-4c6d-8b2e-460cf1b0a415@www.middendorf-funeralhome.com
DTSTAMP:20260421T182252Z
DTSTART:20260424T120000Z
DTEND:20260424T140000Z
SUMMARY:Visitation
DESCRIPTION:
URL:https://www.middendorf-funeralhome.com/obituaries/carrie-moeves
LOCATION:St. Barbara Church 4042 Turkeyfoot Rd  Erlanger KY 41018
GEO:38.9727656;-84.5969317
END:VEVENT
END:VCALENDAR